Workbook

Sheet S37 GOU
A1: GOUTERS
A2: Du 7 septembre au 11 septembre 2020
A3: Découverte de la Figue
A5: Tous les repas (entrées plats compotes) sont "FAIT MAISON" à partir de produits frais exclusivement (à l'exception des laitages fromages jus et biscuits) et majoritairement locaux (à l'exeption des poissons, bananes, laitages etc.)
B8: Lundi | C8: Mardi | D8: Mercredi | E8: Jeudi | F8: Vendredi
A10: Grands | B10: Compote de Poire | C10: Fruit de saison | D10: Compote de Poire | F10: Fruit de saison
B11: Pain | C11: Yaourt nature | D11: Semoule au lait | E11: Gateau fourré aux fruits | F11: Cracottes multicéréales
B12: Fromage fondu ail et fines herbes | C12: Petit Beurre au chocolat | E12: Yaourt nature | F12: Emmental
A14: Moyens & Bébés | B14: Compote de Poire | C14: Fruit de saison | D14: Compote de Poire | E14: Compote de Pomme | F14: Compote de Poire
B15: Pain | C15: Yaourt nature | D15: Semoule au lait | E15: Yaourt nature | F15: Petit Suisse
B16: Fromage fondu ail et fines herbes | C16: Petit Beurre | E16: Biscuit bébé | F16: Boudoir
B19: Bio (en vert non gras) | D19: Pêche Durable | E19: Indication géographique protégée | F19: Label Rouge
B20: Bio et Fait Maison (en vert et gras)
B21: Manipulant tous types d’aliments dans notre atelier de cuisine, traces possibles d'allergènes
B22: Pour les bébés et moyens : purées de carottes en complément possibles

Sheet S38 DEJ
A1: DEJEUNERS
A2: Du 14 septembre au 18 septembre 2020
A3: Découverte de la Chayotte
A5: Tous les repas (entrées plats compotes) sont "FAIT MAISON" à partir de produits frais exclusivement (à l'exception des laitages fromages jus et biscuits) et majoritairement locaux (à l'exeption des poissons, bananes, laitages etc.)
B8: Lundi | C8: Mardi | D8: Mercredi | E8: Jeudi | F8: Vendredi
A10: Grands Texture "Morceaux" | B10: Salade verte | C10: Salade de Quinoa aux petits légumes | E10: Salade de Melons et Pastèques à la menthe
B11: Aubergines à la parmesane et sauté de veau | C11: Courge au romarin riz de Camargue et filet de saumon | D11: Couscouuuuus de bœuf (carottes courgettes navets tomates courge céleri paprika coriandre 4 épices) | E11: Chayottes et Courgettes boulgour aux petits oignons et filet de Cabillaud | F11: Carottes et champignons pommes de terre et filet de poulet
D12: Bleu d’Auvergne | E12: Yaourt | F12: Mimolette
B13: Compote Pomme Figue Orange | C13: Fruit de saison | D13: Fruit de saison | F13: Compote Pomme Melon Menthe
A15: Moyens Texture "Ecrasé" | B15: Aubergines à la parmesane et sauté de veau | C15: Courge au romarin riz de Camargue et filet de saumon | D15: Couscouuuuus de bœuf | E15: Chayottes et Courgettes boulgour aux petits oignons et filet de Cabillaud | F15: Carottes et champignons pommes de terre et filet de poulet
B16: Petit Suisse | C16: Yaourt nature | D16: Fromage blanc nature | E16: Yaourt nature | F16: Petit Suisse
B17: Compote Pomme Figue Orange | C17: Compote Banane Poire Passiflore | D17: Compote Pomme Prune Questche | E17: Compote Poire Gingembre | F17: Compote Pomme Raisin Cannelle
A19: Bébés Texture "Purée" | B19: Mixé de Veau | C19: Mixé de Saumon | D19: Mixé de Bœuf | E19: Mixé de Cabillaud | F19: Mixé de Poulet
B20: Purée de Brocolis | C20: Purée de Courges | D20: Purée de Courgettes | E20: Purée de Chayotte | F20: Purée de Blanc de poireau
B21: Purée de pommes de terre | C21: Purée de patates douces | D21: Purée de pommes de terre | E21: Purée de patates douces | F21: Purée de pommes de terre
B22: Compote de Pommes | C22: Compote de Poires | D22: Compote Pomme Prune Questche | E22: Compote de Poires | F22: Compote de Pommes
B25: Bio (en vert non gras) | D25: Pêche Durable | E25: Indication géographique protégée | F25: Label Rouge
B26: Bio et Fait Maison (en vert et gras)
B27: Manipulant tous types d’aliments dans notre atelier de cuisine, traces possibles d'allergènes
B28: Pour les bébés et moyens : purées de carottes en complément possibles

Sheet S38 GOU
A1: GOUTERS
A2: Du 14 septembre au 18 septembre 2020
A3: Découverte de la Chayotte
A5: Tous les repas (entrées plats compotes) sont "FAIT MAISON" à partir de produits frais exclusivement (à l'exception des laitages fromages jus et biscuits) et majoritairement locaux (à l'exeption des poissons, bananes, laitages etc.)
B8: Lundi | C8: Mardi | D8: Mercredi | E8: Jeudi | F8: Vendredi
A10: Grands | B10: Compote Poire | C10: Fruit de saison | D10: Compote Pomme Pastèque Menthe | E10: Jus multifruit | F10: Fruit de saison
B11: Yaourt ar. À la vanille | C11: Petit Suisse | D11: Tapioca au lait | E11: Emmental | F11: Fromage frais à tartiner
B12: Boudoir | C12: Petit Beurre | E12: Biscuit bébé | F12: Biscotte
A14: Moyens & Bébés | B14: Compote Poire | C14: Compote de Pommes | D14: Compote Pomme Pastèque Menthe | E14: Jus multifruit | F14: Compote de Poire
B15: Yaourt nature | C15: Petit Suisse | D15: Tapioca au lait | E15: Fromage blanc | F15: Petit Suisse
B16: Boudoir | C16: Petit Beurre | E16: Biscuit bébé | F16: Boudoir
B19: Bio (en vert non gras) | D19: Pêche Durable | E19: Indication géographique protégée | F19: Label Rouge
B20: Bio et Fait Maison (en vert et gras)
B21: Manipulant tous types d’aliments dans notre atelier de cuisine, traces possibles d'allergènes
B22: Pour les bébés et moyens : purées de carottes en complément possibles

Sheet S39 DEJ
A1: DEJEUNERS
A2: Du 21 septembre au 25 septembre 2020
A3: Découverte du Melon Canari
A5: Tous les repas (entrées plats compotes) sont "FAIT MAISON" à partir de produits frais exclusivement (à l'exception des laitages fromages jus et biscuits) et majoritairement locaux (à l'exeption des poissons, bananes, laitages etc.)
B8: Lundi | C8: Mardi | D8: Mercredi | E8: Jeudi | F8: Vendredi
A10: Grands Texture "Morceaux" | B10: Carottes râpées au jus de citron | E10: Melon à la féta et aneth
B11: Courgettes pommes de terre au pesto et filet de saumon | C11: Veau Marengo revisité | D11: Pâtisson courgettes coquillettes au basilic et filet de poulet | E11: Courge butternut quinoa à l'échalotte et filet de bœuf à la coriandre | F11: Ratatouille de légumes boulgour et dos de Cabillaud
C12: Yaourt nature | D12: Coulommier | F12: Mimolette
B13: =B17 -> Compote Pomme Pastèque Eucalyptus | C13: Fruit de saison | D13: =D17 -> Compote Pomme Melon Canari | E13: =E17 -> Compote Pomme Raisin Cardamome | F13: Fruit de saison
A15: Moyens Texture "Ecrasé" | B15: =B11 -> Courgettes pommes de terre au pesto et filet de saumon | C15: =C11 -> Veau Marengo revisité | D15: =D11 -> Pâtisson courgettes coquillettes au basilic et filet de poulet | E15: =E11 -> Courge butternut quinoa à l'échalotte et filet de bœuf à la coriandre | F15: =F11 -> Ratatouille de légumes boulgour et dos de Cabillaud
B16: Petit Suisse | C16: Yaourt nature | D16: Fromage blanc nature | E16: Petit Suisse | F16: Yaourt nature
B17: Compote Pomme Pastèque Eucalyptus | C17: Compote Poire Réglisse | D17: Compote Pomme Melon Canari | E17: Compote Pomme Raisin Cardamome | F17: Compote Banane Pomme Epices
A19: Bébés Texture "Purée" | B19: Mixé de Saumon | C19: Mixé de Veau | D19: Mixé de Poulet | E19: Mixé de Bœuf | F19: Mixé de Cabillaud
B20: Purée de Courgettes | C20: Purée de Brocolis | D20: Purée de Pâtisson | E20: Purée de Courge butternut | F20: Purée de Haricots verts
B21: Purée de pommes de terre | C21: Purée de patates douces | D21: Purée de pommes de terre | E21: Purée de patates douces | F21: Purée de pommes de terre
B22: Compote de Pommes | C22: Compote de Poires | D22: Compote de Pommes ou Compote Pomme Melon Canari | E22: Compote de Poires | F22: Compote de Pommes
B25: Bio (en vert non gras) | D25: Pêche Durable | E25: Indication géographique protégée | F25: Label Rouge
B26: Bio et Fait Maison (en vert et gras)
B27: Manipulant tous types d’aliments dans notre atelier de cuisine, traces possibles d'allergènes
B28: Pour les bébés et moyens : purées de carottes en complément possibles

Sheet S39 GOU
A1: GOUTERS
A2: Du 21 septembre au 25 septembre 2020
A3: ='S39 DEJ'!A3:F3 -> Découverte du Melon Canari
A5: Tous les repas (entrées plats compotes) sont "FAIT MAISON" à partir de produits frais exclusivement (à l'exception des laitages fromages jus et biscuits) et majoritairement locaux (à l'exeption des poissons, bananes, laitages etc.)
B8: Lundi | C8: Mardi | D8: Mercredi | E8: Jeudi | F8: Vendredi
A10: Grands | B10: Fruits de saison | C10: Confiture | D10: Compote de Poire | E10: Compote Pomme Melon | F10: Fruits de saison
B11: Yaourt nature | C11: Pain | D11: Petit Suisse | E11: Yaourt nature | F11: Fromage Blanc
B12: Petit Beurre | C12: Verre de lait | D12: Biscuit Bébé | E12: Palmier | F12: Boudoir
A14: Moyens & Bébés | B14: Compote de Poire | C14: Compote de Pomme | D14: Compote de Poire | E14: Compote Pomme Melon | F14: Compote de Poire
B15: Yaourt nature | C15: Fromage Blanc | D15: Petit Suisse | E15: Yaourt nature | F15: Fromage Blanc
B16: Petit Beurre | C16: Quignon de pain | D16: Biscuit Bébé | E16: Petit Beurre | F16: Boudoir
B19: Bio (en vert non gras) | D19: Pêche Durable | E19: Indication géographique protégée | F19: Label Rouge
B20: Bio et Fait Maison (en vert et gras)
B21: Manipulant tous types d’aliments dans notre atelier de cuisine, traces possibles d'allergènes
B22: Pour les bébés et moyens : purées de carottes en complément possibles

Sheet S40 DEJ
A1: DEJEUNERS
A2: Du 28 septembre au 2 octobre 2020
A3: Découverte de la Patate Douce
A5: Tous les repas (entrées plats compotes) sont "FAIT MAISON" à partir de produits frais exclusivement (à l'exception des laitages fromages jus et biscuits) et majoritairement locaux (à l'exeption des poissons, bananes, laitages etc.)
B8: Lundi | C8: Mardi | D8: Mercredi | E8: Jeudi | F8: Vendredi
A10: Grands Texture "Morceaux" | B10: Tomates Mozzarella pointe de basilic | D10: Salade de Pâtes
B11: Courge spaghetti et semoule aux poivrons et sauté de veau | C11: Courgettes patate douce et filet de saumon | D11: Carottes au curry pommes de terre et poulet tandoori | E11: Légumes d'été pâtes à la cardamome et filet de bœuf | F11: Potiron boulgour et dos de Cabillaud
C12: =C16 -> Yaourt nature | D12: Emmental | E12: =E16 -> Fromage blanc nature | F12: Bleu d'Auvergne
B13: Fruit de saison | C13: =C17 -> Compote Pomme Melon Vanille | D13: =D17 -> Compote Banane Pomme Citronnelle | E13: Fruit de saison | F13: =E13 -> Fruit de saison
A15: Moyens Texture "Ecrasé" | B15: =B11 -> Courge spaghetti et semoule aux poivrons et sauté de veau | C15: =C11 -> Courgettes patate douce et filet de saumon | D15: =D11 -> Carottes au curry pommes de terre et poulet tandoori | E15: =E11 -> Légumes d'été pâtes à la cardamome et filet de bœuf | F15: =F11 -> Potiron boulgour et dos de Cabillaud
B16: Fromage blanc | C16: Yaourt nature | D16: Petit Suisse | E16: Fromage blanc nature | F16: Yaourt nature
B17: Compote Poire Verveine | C17: Compote Pomme Melon Vanille | D17: Compote Banane Pomme Citronnelle | E17: Compote Pomme Raisin Cardamome | F17: Compote Pomme Prune Menthe
A19: Bébés Texture "Purée" | B19: Mixé de Veau | C19: Mixé de Saumon | D19: Mixé de Poulet | E19: Mixé de Bœuf | F19: Mixé de Cabillaud
B20: Purée de Courge Spaghetti | C20: Purée de Courgettes | D20: Purée de Brocolis | E20: Purée de Blanc de Poireau | F20: Purée de Potiron
B21: Purée de pommes de terre | C21: Purée de patates douces | D21: Purée de pommes de terre | E21: Purée de patates douces | F21: Purée de pommes de terre
B22: Compote de Pommes | C22: Compote de Poires | D22: Compote de Pommes | E22: Compote de Poires | F22: =D22 -> Compote de Pommes
B25: Bio (en vert non gras) | D25: Pêche Durable | E25: Indication géographique protégée | F25: Label Rouge
B26: Bio et Fait Maison (en vert et gras)
B27: Manipulant tous types d’aliments dans notre atelier de cuisine, traces possibles d'allergènes
B28: Pour les bébés et moyens : purées de carottes en complément possibles

Sheet S40 GOU
A1: GOUTERS
A2: ='S40 DEJ'!A2:F2 -> Du 28 septembre au 2 octobre 2020
A3: ='S40 DEJ'!A3:F3 -> Découverte de la Patate Douce
A5: Tous les repas (entrées plats compotes) sont "FAIT MAISON" à partir de produits frais exclusivement (à l'exception des laitages fromages jus et biscuits) et majoritairement locaux (à l'exeption des poissons, bananes, laitages etc.)
B8: Lundi | C8: Mardi | D8: Mercredi | E8: Jeudi | F8: Vendredi
A10: Grands | B10: Compote de Pomme | C10: Fruit de saison | D10: Fruit de saison | E10: Compote de Poire | F10: Fruit de saison
B11: Petit Suisse | C11: Fromage blanc nature | D11: Yaourt nature | E11: Fromage fondu nature | F11: Fromage blanc nature
B12: Barquette à la fraise | C12: Madeleines | D12: Palmier | E12: Pain | F12: Biscuit Bébé
A14: Moyens & Bébés | B14: Compote de Pomme | C14: Compote de Poire | D14: Compote de Pomme | E14: Compote de Poire | F14: Compote de Pomme
B15: Petit Suisse | C15: Fromage blanc nature | D15: Yaourt nature | E15: Petit Suisse | F15: =C15 -> Fromage blanc nature
B16: Biscuit Bébé | C16: Madeleines | D16: Boudoir | E16: Quignon de pain | F16: Biscuit Bébé
B19: Bio (en vert non gras) | D19: Pêche Durable | E19: Indication géographique protégée | F19: Label Rouge
B20: Bio et Fait Maison (en vert et gras)
B21: Manipulant tous types d’aliments dans notre atelier de cuisine, traces possibles d'allergènes
B22: Pour les bébés et moyens : purées de carottes en complément possibles

Sheet S36-DEJ
A3: MENUS
A4: Du 31 Août au 04 Septembre 2026
A5: Découverte Courge longue de Nice
B7: Lundi | C7: Mardi | D7: Mercredi | E7: Jeudi | F7: Vendredi
A9: Grands Texture "Morceaux" | C9: Tomates au basilic | E9: Velouté de courge à l'ail | F9: Salade de betteraves à la féta (Lait), menthe et à l'huile d'olive
B10: Courges longue de nice façon Vichy, Quinoa au bouillon de légumes et Poisson du jour* | C10: Poireaux d'été à la crème* (lait), riz au paprika doux et Poulet | D10: Bœuf façon bourguignon (carottes, champignons, concentré de tomates, jus de raisin) et Polenta | E10: Courgettes, Boulgour* (Blé) au bouillon antillais (Gingembre,citronnelle) et Poisson du jour* à l'huile d'olive | F10: Moussaka Végétarienne (lait) (Aubergines, tomates,lait ,paprika) Blé* (Blé) au bouillon de légumes, Pois chiche au cumin
A11: Goûter | B11: Compote Pomme Mirabelle | C11: Compote Pomme Banane Raisin Rouge | D11: Compote Pomme Figue Cannelle | E11: Compote Pomme Grenade | F11: Compote Pomme Pastèque Menthe
A13: Moyens Texture "Ecrasé" | B13: Courges longue de nice façon Vichy, Quinoa au bouillon de légumes et Mixé Poisson du jour* | C13: Poireaux d'été à la crème* (lait), riz au paprika doux et Poulet | D13: Carottes et Champignons Façon Bourguignon (concentré de tomates, laurier et jus de raisin), Polenta et Mixé de Bœuf | E13: Courgettes, Boulgour* (Blé) au bouillon antillais (Gingembre,citronnelle) et Mixé de Poisson du jour* | F13: Moussaka (lait) (Aubergines, tomates, lait, paprika) Blé* (Blé) au bouillon de légumes et Mixé de Poulet
A14: Goûter | B14: Compote Pomme Mirabelle | C14: Compote Pomme Banane Raisin Rouge | D14: Compote Pomme Figue Cannelle | E14: Compote Pomme Grenade | F14: Compote Pomme Pastèque Menthe
A16: Bébés Texture "Purée" | B16: Mixé de Poisson du jour* | C16: Mixé de Poulet | D16: Mixé de Boeuf | E16: Mixé de Poisson du jour* | F16: Mixé de Poulet
B17: Purée de Courge | C17: Purée de Blanc de Poireaux | D17: Purée de Carotte | E17: Purée de Courgette | F17: Purée d'Aubergines
B18: Purée de Pois cassés | C18: Purée de Maïs | D18: Purée de Petit Pois | E18: Purée de pommes de terre | F18: Purée de Patates douces
A19: Goûter | B19: Compote Pomme Mirabelle | C19: Compote Pomme Banane | D19: Compote Pomme Figue | E19: Compote Pomme | F19: Compote Pomme Pastèque
A21: Introduction | B21: =B17 -> Purée de Courge | C21: =C17 -> Purée de Blanc de Poireaux | D21: =D17 -> Purée de Carotte | E21: =E17 -> Purée de Courgette | F21: =F17 -> Purée d'Aubergines
A22: Goûter | B22: Compote Pomme Mirabelle | C22: =C19 -> Compote Pomme Banane | D22: =D19 -> Compote Pomme Figue | E22: =E19 -> Compote Pomme | F22: =F19 -> Compote Pomme Pastèque
B24: Bio (en vert non gras) | C24: Bio et Fait Maison (en vert et gras) | D24: Tous les Poissons : NON BIO | E24: Recette végétarienne | F24: (lait) ou * Allergènes à déclaration obligatoire
B25: Manipulant tous types d’aliments dans notre atelier de cuisine, traces possibles d'allergènes
B26: Toutes nos viandes sont d'origine française

Sheet S37-DEJ
A3: MENUS
A4: Du 07 au 11 Septembre 2026
A5: Découverte du Galanga (Gingembre chinois)
B7: Lundi | C7: Mardi | D7: Mercredi | E7: Jeudi | F7: Vendredi
A9: Grands Texture "Morceaux" | B9: Cake* aux courgettes, tomates et parmesan (lait, œuf,blé) | D9: Salade de lentilles verte | E9: Velouté de chou-fleur à la menthe
B10: Blanquette végétarienne (Lait) ( Poireaux, champignon, carottes, citron, crème),Riz pilaf et Haricots blanc | C10: Carotte au cumin, Pâtes* (Blé) au fromage* (Lait) et Poisson du jour* | D10: Haricots verts au galanga, Pommes de terre aux herbes de Provence et Mijoté de Boeuf | E10: Courgettes au basilic, quinoa sauce tomate et Poisson du jour* | F10: Courge à la msucade, Millet au thym et Sauté de Poulet
A11: Goûter | B11: Compote Pomme Mirabelle | C11: Compote Pomme Nectarine | D11: Compote Pomme Raisin blanc Verveine | E11: Compote Pomme Myrtille | F11: Compote Pomme Prune
A13: Moyens Texture "Ecrasé" | B13: Blanquette de Poulet (Lait) ( Poireaux, champignon, carottes, citron, crème),Riz pilaf et Mixé de Poulet | C13: Carotte au cumin, pâtes*au fromage (Lait) et Mixé de Poisson du jour* | D13: Haricots verts au galanga, Pommes de terre aux herbes et Mixé de Bœuf | E13: Courgettes au basilic, Quinoa sauce tomate et Mixé de Poisson du jour* | F13: Courge à la msucade, Millet au thym et Mixé de Poulet
A14: Goûter | B14: Compote Pomme Mirabelle | C14: Compote Pomme Nectarine | D14: Compote Pomme Raisin blanc Verveine | E14: Compote Pomme Myrtille | F14: Compote Pomme Prune
A16: Bébés Texture "Purée" | B16: Mixé de Poulet | C16: Mixé de Poisson du jour* | D16: Mixé de Bœuf | E16: Mixé de Poisson du jour* | F16: Mixé de Poulet
B17: Purée de Blanc de Poireaux | C17: Purée de Carottes | D17: Purée de Haricots verts | E17: Purée de Courgettes | F17: Purée de Courge
B18: Purée de Patates douces | C18: Purée de Petits pois | D18: Purée de pommes de terre | E18: Purée de Lentille corail | F18: Purée de Pois cassés
A19: Goûter | B19: Compote Pomme | C19: Compote Pomme Nectarine | D19: Compote Pomme Raisin blanc | E19: Compote Pomme Myrtille | F19: Compote Pomme Prune
A21: Introduction | B21: =B17 -> Purée de Blanc de Poireaux | C21: =C17 -> Purée de Carottes | D21: =D17 -> Purée de Haricots verts | E21: =E17 -> Purée de Courgettes | F21: =F17 -> Purée de Courge
A22: Goûter | B22: =B19 -> Compote Pomme | C22: =C19 -> Compote Pomme Nectarine | D22: =D19 -> Compote Pomme Raisin blanc | E22: =E19 -> Compote Pomme Myrtille | F22: =F19 -> Compote Pomme Prune
B25: Bio (en vert non gras) | C25: Bio et Fait Maison (en vert et gras) | D25: Tous les Poissons : NON BIO | E25: Recette végétarienne | F25: (lait) ou * Allergènes à déclaration obligatoire
B26: Manipulant tous types d’aliments dans notre atelier de cuisine, traces possibles d'allergènes
B27: Toutes nos viandes sont d'origine française

Sheet S37 DEJ
A1: DEJEUNERS
A2: Du 7 septembre au 11 septembre 2020
A3: Découverte de la Figue
A5: Tous les repas (entrées plats compotes) sont "FAIT MAISON" à partir de produits frais exclusivement (à l'exception des laitages fromages jus et biscuits) et majoritairement locaux (à l'exeption des poissons, bananes, laitages etc.)
B8: Lundi | C8: Mardi | D8: Mercredi | E8: Jeudi | F8: Vendredi
A10: Grands Texture "Morceaux" | B10: Salade de millet aux petits légumes | D10: Salade de concombres à la menthe | F10: Tomates vinaigrette
B11: Pâtisson et courgettes à l’aneth, riz de Camargue au romarin et sauté de bœuf | C11: Chorba marocaine revisitée au poulet | D11: Aioiliiii de septembre au Cabillaud | E11: Potimarron à la muscade semoule aux herbes de Provence et sauté de veau | F11: Petite Blanquette au Saumon
C12: Camembert | D12: Petit Suisse | E12: Emmental | F12: Yaourt nature
B13: Fruit de saison | C13: Compote Pomme Figue | D13: Fruit de saison | E13: Fruit de saison | F13: Compote Poire Prune
A15: Moyens Texture "Ecrasé" | B15: Pâtisson et courgettes à l’aneth, riz de Camargue au romarin et sauté de bœuf | C15: Chorba marocaine revisitée au poulet (carottes navets tomates poireau pdt vermicelles conc. tom. céleri persil coriandre oignons curcuma) | D15: Aioiliiii de septembre au Cabillaud | E15: Potimarron à la muscade semoule aux herbes de Provence et sauté de veau | F15: Petite Blanquette au Saumon
B16: Yaourt nature | C16: Fromage blanc nature | D16: Petit Suisse | E16: Fromage blanc nature | F16: Yaourt nature
B17: Compote Pomme Pastèque Basilic | C17: Compote Pomme Figue | D17: Compote Pomme Verveine | E17: Compote Banane Pomme Citron | F17: Compote Poire Prune
A19: Bébés Texture "Purée" | B19: Mixé de Bœuf | C19: Mixé de Poulet | D19: Mixé de Cabillaud | E19: Mixé de Veau | F19: Mixé de Saumon
B20: Purée de Pâtisson | C20: Purée de Blanc de Poireau | D20: Purée de Haricots verts | E20: Purée de Potimarron | F20: Purée de Courgettes
B21: Purée de pommes de terre | C21: Purée de patates douces | D21: Purée de pommes de terre | E21: Purée de pommes de terre | F21: Purée de patates douces
B22: Compote de Pommes | C22: Compote Pomme Figue | D22: Compote de Pommes | E22: Compote de Poires | F22: Compote de Pommes
B25: Bio (en vert non gras) | D25: Pêche Durable | E25: Indication géographique protégée | F25: Label Rouge
B26: Bio et Fait Maison (en vert et gras)
B27: Manipulant tous types d’aliments dans notre atelier de cuisine, traces possibles d'allergènes
B28: Pour les bébés et moyens : purées de carottes en complément possibles

Sheet S38-DEJ
A3: MENUS
A4: Du 14 au 18 Septembre 2026
A5: Découverte de la semoule de petit épeautre
B7: Lundi | C7: Mardi | D7: Mercredi | E7: Jeudi | F7: Vendredi
A9: Grands Texture "Morceaux" | B9: Velouté de carottes à la badiane et lait de coco | D9: Salade de tomates à l' huile d'olive | E9: Salade de boulgour* (Blé) italienne (lait) (Coulis de figues , mozzarella, tomates, courgettes et menthe)
B10: Chou fleur à la crème* de cumin (lait), Polenta à l'huile d'olive et Poisson du jour* | C10: Ratatouille de Mamie, Riz façon pilaf et Poulet à la créole (gingembre,curcuma) | D10: Haricots verts aux échalotes, semoule de petit épeautre aux bouillon de légumes et Poisson du jour* | E10: Epinards , Blésotto* (Lait,Blé) Haricots Rouges sauce thaï (Paprika fumé,citronnelle) | F10: Courgettes à la menthe, Quinoa à la provençale et Poulet
A11: Goûter | B11: Compote Pomme Nectarine | C11: Compote Pomme Poire | D11: Compote Pomme Peche Romarin | E11: Compote Pomme Raisin | F11: Compote Pomme Pasteque Basilic
A13: Moyens Texture "Ecrasé" | B13: Chou fleur à la crème* et curry (lait), Polenta à l'huile d'olive et Mixé de Poisson du jour* | C13: Ratatouille de Mamie, Riz façon pilaf à la créole (gingembre, curcuma) et Mixé de Poulet | D13: Haricots verts aux échalotes, semoule de petit épeautre aux bouillon de légumes et Mixé de Poisson du jour* | E13: Epinards, Blésotto* sauce thaï (Paprika fumé,citronnelle) (Lait,Blé) Mixé de Boeuf | F13: Courgettes à la menthe, Quinoa à la provençale et Mixé de Poulet
A14: Goûter | B14: Compote Pomme Nectarine | C14: Compote Pomme Poire | D14: Compote Pomme Peche Romarin | E14: Compote Pomme Raisin | F14: Compote Pomme Pasteque Basilic
A16: Bébés Texture "Purée" | B16: Mixé de Poisson du jour* | C16: Mixé de Poulet | D16: Mixé de Poisson du jour* | E16: Mixé de Bœuf | F16: Mixé de Poulet
B17: Purée de Chou fleur | C17: Purée d'Aubergines | D17: Purée de Haricots verts | E17: Purée de Carottes | F17: Purée de Courgettes
B18: Purée de Patate Douce | C18: Purée de Maïs | D18: Purée de pommes de terre | E18: Purée de Lentilles vertes | F18: Purée de Patate douce
A19: Goûter | B19: Compote Pomme Nectarine | C19: Compote Pomme Poire | D19: Compote Pomme Peche | E19: Compote Pomme Raisin | F19: Compote Pomme
A21: Introduction | B21: =B17 -> Purée de Chou fleur | C21: =C17 -> Purée d'Aubergines | D21: =D17 -> Purée de Haricots verts | E21: Purée de Carottes | F21: =F17 -> Purée de Courgettes
A22: Goûter | B22: =B19 -> Compote Pomme Nectarine | C22: =C19 -> Compote Pomme Poire | D22: =D19 -> Compote Pomme Peche | E22: =E19 -> Compote Pomme Raisin | F22: =F19 -> Compote Pomme
B25: Bio (en vert non gras) | C25: Bio et Fait Maison (en vert et gras) | D25: Tous les Poissons : NON BIO | E25: Recette végétarienne | F25: (lait) ou * Allergènes à déclaration obligatoire
B26: Manipulant tous types d’aliments dans notre atelier de cuisine, traces possibles d'allergènes
B27: Toutes nos viandes sont d'origine française

Sheet S39-DEJ 
A3: MENUS
A4: Du 21 au 25 Septembre 2026
A5: Découverte du Nashi et du Coing
B7: Lundi | C7: Mardi | D7: Mercredi | E7: Jeudi | F7: Vendredi
A9: Grands Texture "Morceaux" | B9: Veloute* de légumes de Saison (Lait) (Légumes variés) | D9: Cake* aux figues, fromage de chèvre et tomates (lait,blé,oeuf) | E9: Soupe chinoise aux Nouille de riz (Carotte,oignon,Poireaux)
B10: Tajine de légumes d'automne aux fruits secs écrasés (carottes navets raisin sec et abricot sec) Pois chiche Semoule* (Blé) | C10: Haricots verts en persillade, patates douces à la coriandre et Poisson du jour* | D10: Brocolis aux agrumes (Citron et orange), Riz façon pilaf et Bœuf sauce Barbecue (Tomate, Sirop d'agave,Vinaigre*)(sulfite) | E10: Courgettes à l'ail, Polenta au mascarpone* (Lait) et Poisson du jour* | F10: Courge, Quinoa sauce "Parmi" (lait) (Tomates parmesan) et Poulet
A11: Goûter | B11: Compote Pomme Melon | C11: Compote Pomme Nashi | D11: Compote Pomme Figue | E11: Compote Pomme Prune | F11: Compote Pomme Coing
A13: Moyens Texture "Ecrasé" | B13: Tajine de légumes d'automne aux fruits secs écrasés (carottes navets raisin sec et abricot sec) Semoule* (Blé) et Mixé de Poulet | C13: Haricots verts en persillade, patates douces à la coriandre et Mixé de Poisson du jour* | D13: Brocolis aux agrumes (Citron et orange), Riz façon pilaf sauce Barbecue (Tomate, Sirop d'agave,Vinaigre*)(sulfite) et Mixé de Bœuf | E13: Courgettes à l'ail , Polenta au mascarpone* (Lait) et Mixé de Poisson du jour* | F13: Courge, Quinoa sauce "Parmi" (lait) (Tomates parmesan) et Mixé de Poulet
A14: Goûter | B14: Compote Pomme Melon | C14: Compote Pomme Nashi | D14: Compote Pomme Figue | E14: Compote Pomme Prune | F14: Compote Pomme Coing
A16: Bébés Texture "Purée" | B16: Mixé de Poulet | C16: Mixé de Poisson du jour* | D16: Mixé de Bœuf | E16: Mixé de Poisson du jour* | F16: Mixé de Poulet
B17: Purée de Carottes | C17: Purée de Haricots verts | D17: Purée de Brocolis | E17: Purée de Courgettes | F17: Purée de Courge
B18: Purée de Pois cassés | C18: Purée de Patate douce | D18: Purée de pommes de terre | E18: Purée de Patate douce | F18: Purée de Petit Pois
A19: Goûter | B19: Compote Pomme Melon | C19: Compote Pomme | D19: Compote Pomme | E19: Compote Pomme Prune | F19: Compote Pomme Coing
A21: Introduction | B21: =B17 -> Purée de Carottes | C21: =C17 -> Purée de Haricots verts | D21: =D17 -> Purée de Brocolis | E21: =E17 -> Purée de Courgettes | F21: =F17 -> Purée de Courge
A22: Goûter | B22: =B19 -> Compote Pomme Melon | C22: =C19 -> Compote Pomme | D22: =D19 -> Compote Pomme | E22: Compote Pomme Prune | F22: Compote Pomme Coing
B25: Bio (en vert non gras) | C25: Bio et Fait Maison (en vert et gras) | D25: Tous les Poissons : NON BIO | E25: Recette végétarienne | F25: (lait) ou * Allergènes à déclaration obligatoire
B26: Manipulant tous types d’aliments dans notre atelier de cuisine, traces possibles d'allergènes
B27: Toutes nos viandes sont d'origine française

Sheet S40-DEJ 
A3: MENUS
A4: Du 28 au 02 Octobre 2026
A5: Découverte De l'Axoa de Veau
B7: Lundi | C7: Mardi | D7: Mercredi | E7: Jeudi | F7: Vendredi
A9: Grands Texture "Morceaux" | D9: Courgettes au citron et mozzarella* (Lait) | E9: Velouté de légumes variés | F9: Soupe de tomates, Pastèque et chevre frais* (Blé, Lait)
B10: Courgettes sautées à l'origan, Pâtes* (Blé) au basilic et Axoa de Veau | C10: Aubergines et Poivrons mijotés, Quinoa à la tomate et Poisson du jour* | D10: Courge Butternut à l'anis, Risotto* (Lait) et Poulet | E10: Haricots verts en persillade, Polenta à l'estragon et Poisson du jour * | F10: Couscous végétarien (carottes, courgettes, tomates, navets, Pois chiches et Semoule* ) (Blé)
A11: Goûter | B11: Compote Pomme Raisin Rouge | C11: Compote Pomme Pastèque Citron vert | D11: Compote Pomme Prune | E11: Compote Pomme Melon Basilic | F11: Compote Pomme Poire
A13: Moyens Texture "Ecrasé" | B13: Courgettes sautées à l'estragon, Pâtes* au basilic et Mixé de Veau | C13: Aubergines et Poivrons mijotés, Quinoa à la tomate et Mixé de Poisson du jour* | D13: Courge Butternut à l'anis, Risotto* (Lait) et Mixé de Poulet | E13: Haricots verts en persillade, Polenta et Mixé Poisson du jour * | F13: Couscous (carottes, courgettes, tomates, navets et Semoule* ) (Blé) Mixé de Poulet
A14: Goûter | B14: Compote Pomme Raisin Rouge | C14: Compote Pomme Pastèque Citron vert | D14: Compote Pomme Prune | E14: Compote Pomme Melon Basilic | F14: Compote Pomme Poire
A16: Bébés Texture "Purée" | B16: Mixé de Veau | C16: Mixé de poisson du jour* | D16: Mixé de Poulet | E16: Mixé Poisson du jour * | F16: Mixé de Poulet
B17: Purée de Courgette | C17: Purée de Carottes | D17: Purée de Courge Butternut | E17: Purée de Haricots verts | F17: Purée de Carottes
B18: Purée de Pommes de terre | C18: Purée de Patates douces | D18: Purée de Petits Pois | E18: Purée de Lentille corail | F18: Purée de Pois cassés
A19: Goûter | B19: Compote Pomme Raisin Rouge | C19: Compote Pomme Pastèque | D19: Compote Pomme | E19: Compote Pomme Melon | F19: Compote Pomme Poire
A21: Introduction | B21: =B17 -> Purée de Courgette | C21: Purée de Carottes | D21: =D17 -> Purée de Courge Butternut | E21: Purée de Haricots verts | F21: Purée de Carottes
A22: Goûter | B22: =B19 -> Compote Pomme Raisin Rouge | C22: =C19 -> Compote Pomme Pastèque | D22: =D19 -> Compote Pomme | E22: Compote Pomme Melon | F22: Compote Pomme Poire
B25: Bio (en vert non gras) | C25: Bio et Fait Maison (en vert et gras) | D25: Tous les Poissons : NON BIO | E25: Recette végétarienne | F25: (lait) ou * Allergènes à déclaration obligatoire
B26: Manipulant tous types d’aliments dans notre atelier de cuisine, traces possibles d'allergènes
B27: Toutes nos viandes sont d'origine française

Sheet Allergènes
B1: Allergènes
B2: Gluten | C2: Lait | D2: Poissons | E2: Céleri | F2: Crustacés | G2: Soja | H2: Sésame | I2: Sulfites | J2: Oeufs | K2: Fruits à coques | L2: Lupin | M2: Mollusques | N2: Arachides | O2: Moutarde
A4: ='S36-DEJ'!A4:F4 -> Du 31 Août au 04 Septembre 2026
A5: ='S36-DEJ'!E9 -> Velouté de courge à l'ail
A6: ='S36-DEJ'!F9 -> Salade de betteraves à la féta (Lait), menthe et à l'huile d'olive | C6: X
A7: =+'S36-DEJ'!C9 -> Tomates au basilic
A8: =+'S36-DEJ'!B13 -> Courges longue de nice façon Vichy, Quinoa au bouillon de légumes et Mixé Poisson du jour* | D8: X
A9: ='S36-DEJ'!$C$13 -> Poireaux d'été à la crème* (lait), riz au paprika doux et Poulet | C9: X
A10: ='S36-DEJ'!$D$13 -> Carottes et Champignons Façon Bourguignon (concentré de tomates, laurier et jus de raisin), Polenta et Mixé de Bœuf
A11: ='S36-DEJ'!E13 -> Courgettes, Boulgour* (Blé) au bouillon antillais (Gingembre,citronnelle) et Mixé de Poisson du jour* | B11: X | D11: X
A12: ='S36-DEJ'!$F$13 -> Moussaka (lait) (Aubergines, tomates, lait, paprika) Blé* (Blé) au bouillon de légumes et Mixé de Poulet | B12: X | C12: X
A13: =+'S36-DEJ'!B11 -> Compote Pomme Mirabelle
A14: ='S36-DEJ'!C11 -> Compote Pomme Banane Raisin Rouge
A15: =+'S36-DEJ'!D11 -> Compote Pomme Figue Cannelle
A16: ='S36-DEJ'!E11 -> Compote Pomme Grenade
A17: ='S36-DEJ'!F11 -> Compote Pomme Pastèque Menthe
A18: ='S36-DEJ'!B16 -> Mixé de Poisson du jour* | D18: X
A19: ='S36-DEJ'!C16 -> Mixé de Poulet
A20: ='S36-DEJ'!D16 -> Mixé de Boeuf
A21: ='S36-DEJ'!E16 -> Mixé de Poisson du jour* | D21: X
A22: ='S36-DEJ'!F16 -> Mixé de Poulet
A23: ='S36-DEJ'!B17 -> Purée de Courge
A24: ='S36-DEJ'!C17 -> Purée de Blanc de Poireaux
A25: ='S36-DEJ'!D17 -> Purée de Carotte
A26: ='S36-DEJ'!E17 -> Purée de Courgette
A27: ='S36-DEJ'!F17 -> Purée d'Aubergines
A28: Purée de pommes de terre
A29: Purée de patates douces
A30: Purée de petits pois
A31: Purée de Maïs
A32: Purée de Pois cassés
A33: ='S37-DEJ'!A4:F4 -> Du 07 au 11 Septembre 2026
A34: =+'S37-DEJ'!D9 -> Salade de lentilles verte
A35: ='S37-DEJ'!B9 -> Cake* aux courgettes, tomates et parmesan (lait, œuf,blé) | B35: X | C35: X | J35: X
A36: =+'S37-DEJ'!E9 -> Velouté de chou-fleur à la menthe
A37: ='S37-DEJ'!B13 -> Blanquette de Poulet (Lait) ( Poireaux, champignon, carottes, citron, crème),Riz pilaf et Mixé de Poulet | C37: X
A38: ='S37-DEJ'!C13 -> Carotte au cumin, pâtes*au fromage (Lait) et Mixé de Poisson du jour* | B38: X | C38: X | D38: X
A39: ='S37-DEJ'!D13 -> Haricots verts au galanga, Pommes de terre aux herbes et Mixé de Bœuf
A40: ='S37-DEJ'!E13 -> Courgettes au basilic, Quinoa sauce tomate et Mixé de Poisson du jour* | D40: X
A41: ='S37-DEJ'!F13 -> Courge à la msucade, Millet au thym et Mixé de Poulet
...
